BEGIN:VCALENDAR
VERSION:2.0
PRODID:-//Z-Power - ECPv5.12.4//NONSGML v1.0//EN
CALSCALE:GREGORIAN
METHOD:PUBLISH
X-WR-CALNAME:Z-Power
X-ORIGINAL-URL:https://z-power.eu/en/
X-WR-CALDESC:Events for Z-Power
REFRESH-INTERVAL;VALUE=DURATION:PT1H
X-Robots-Tag:noindex
X-PUBLISHED-TTL:PT1H
BEGIN:VTIMEZONE
TZID:Europe/Rome
BEGIN:DAYLIGHT
TZOFFSETFROM:+0100
TZOFFSETTO:+0200
TZNAME:CEST
DTSTART:20220327T010000
END:DAYLIGHT
BEGIN:STANDARD
TZOFFSETFROM:+0200
TZOFFSETTO:+0100
TZNAME:CET
DTSTART:20221030T010000
END:STANDARD
END:VTIMEZONE
BEGIN:VEVENT
DTSTART;TZID=Europe/Rome:20220405T163000
DTEND;TZID=Europe/Rome:20220405T183000
DTSTAMP:20260421T190704
CREATED:20220407T140354Z
LAST-MODIFIED:20220407T140354Z
UID:1663-1649176200-1649183400@z-power.eu
SUMMARY:Anthropocene
DESCRIPTION:By Jennifer Baichwal\, Edward Burtynsky\, Nicholas de Pencier. Documentary. Canada\, 2018\, 87′. \nA documentary about the impact of human activities on our planet. A journey across six continents\, to juxtapose the different ways in which humans are exploiting Earth’s resources and changing the Earth as never before\, more than natural phenomena do.
URL:https://z-power.eu/en/event/anthropocene/
LOCATION:Cinema Mignon\, Via Martiri della Liberazione 131\, Chiavari (GE)\, 16043\, Italia
CATEGORIES:CINEMA MIGNON
ATTACH;FMTTYPE=image/jpeg:https://z-power.eu/wp-content/uploads/2022/04/ANTROPOCENE.jpg
ORGANIZER;CN="Cinema%20Mignon":MAILTO:cinemamignon@outlook.it
END:VEVENT
BEGIN:VEVENT
DTSTART;TZID=Europe/Rome:20220406T210000
DTEND;TZID=Europe/Rome:20220406T230000
DTSTAMP:20260421T190704
CREATED:20220407T140813Z
LAST-MODIFIED:20220407T140813Z
UID:1667-1649278800-1649286000@z-power.eu
SUMMARY:Anthropocene
DESCRIPTION:By Jennifer Baichwal\, Edward Burtynsky\, Nicholas de Pencier. Documentary. Canada\, 2018\, 87′. \nA documentary about the impact of human activities on our planet. A journey across six continents\, to juxtapose the different ways in which humans are exploiting Earth’s resources and changing the Earth as never before\, more than natural phenomena do.
URL:https://z-power.eu/en/event/anthropocene-2/
LOCATION:Cinema Mignon\, Via Martiri della Liberazione 131\, Chiavari (GE)\, 16043\, Italia
CATEGORIES:CINEMA MIGNON
ATTACH;FMTTYPE=image/jpeg:https://z-power.eu/wp-content/uploads/2022/04/ANTROPOCENE.jpg
ORGANIZER;CN="Cinema%20Mignon":MAILTO:cinemamignon@outlook.it
END:VEVENT
BEGIN:VEVENT
DTSTART;TZID=Europe/Rome:20220412T163000
DTEND;TZID=Europe/Rome:20220412T183000
DTSTAMP:20260421T190704
CREATED:20220407T141837Z
LAST-MODIFIED:20220407T141837Z
UID:1670-1649781000-1649788200@z-power.eu
SUMMARY:Forward
DESCRIPTION:By Gilles de Maistre. Documentary. France\, 2019\, 84′. \nAissatou in Guinea stands fearlessly against the tradition of child marriage\, while Heena in India and some of her peers in Bolivia fight to ensure that children are not forced to work. Arthur\, a very young boy\, manages to raise funds to help the homeless in the city where he lives in France\, with a dream of opening a homeless shelter. Then there is José Adolfo\, who created a bank in Peru to help children secure their livelihoods.
URL:https://z-power.eu/en/event/forward/
LOCATION:Cinema Mignon\, Via Martiri della Liberazione 131\, Chiavari (GE)\, 16043\, Italia
CATEGORIES:CINEMA MIGNON
ATTACH;FMTTYPE=image/png:https://z-power.eu/wp-content/uploads/2022/03/IL-FUTURO-SIAMO-NOI-2019.png
ORGANIZER;CN="Cinema%20Mignon":MAILTO:cinemamignon@outlook.it
END:VEVENT
BEGIN:VEVENT
DTSTART;TZID=Europe/Rome:20220413T210000
DTEND;TZID=Europe/Rome:20220413T230000
DTSTAMP:20260421T190704
CREATED:20220407T142238Z
LAST-MODIFIED:20220407T142238Z
UID:1673-1649883600-1649890800@z-power.eu
SUMMARY:Forward
DESCRIPTION:By Gilles de Maistre. Documentary. France\, 2019\, 84′. \nAissatou in Guinea stands fearlessly against the tradition of child marriage\, while Heena in India and some of her peers in Bolivia fight to ensure that children are not forced to work. Arthur\, a very young boy\, manages to raise funds to help the homeless in the city where he lives in France\, with a dream of opening a homeless shelter. Then there is José Adolfo\, who created a bank in Peru to help children secure their livelihoods.
URL:https://z-power.eu/en/event/forward-2/
LOCATION:Cinema Mignon\, Via Martiri della Liberazione 131\, Chiavari (GE)\, 16043\, Italia
CATEGORIES:CINEMA MIGNON
ATTACH;FMTTYPE=image/png:https://z-power.eu/wp-content/uploads/2022/03/IL-FUTURO-SIAMO-NOI-2019.png
ORGANIZER;CN="Cinema%20Mignon":MAILTO:cinemamignon@outlook.it
END:VEVENT
END:VCALENDAR