BEGIN:VCALENDAR
VERSION:2.0
PRODID:-//Z-Power - ECPv5.12.4//NONSGML v1.0//EN
CALSCALE:GREGORIAN
METHOD:PUBLISH
X-WR-CALNAME:Z-Power
X-ORIGINAL-URL:https://z-power.eu/en/
X-WR-CALDESC:Events for Z-Power
REFRESH-INTERVAL;VALUE=DURATION:PT1H
X-Robots-Tag:noindex
X-PUBLISHED-TTL:PT1H
BEGIN:VTIMEZONE
TZID:Europe/Rome
BEGIN:DAYLIGHT
TZOFFSETFROM:+0100
TZOFFSETTO:+0200
TZNAME:CEST
DTSTART:20220327T010000
END:DAYLIGHT
BEGIN:STANDARD
TZOFFSETFROM:+0200
TZOFFSETTO:+0100
TZNAME:CET
DTSTART:20221030T010000
END:STANDARD
END:VTIMEZONE
BEGIN:VEVENT
DTSTART;TZID=Europe/Rome:20220401T210000
DTEND;TZID=Europe/Rome:20220401T230000
DTSTAMP:20260420T084245
CREATED:20220406T022831Z
LAST-MODIFIED:20220406T022946Z
UID:1600-1648846800-1648854000@z-power.eu
SUMMARY:Futura
DESCRIPTION:By Pietro Marcello\, Francesco Munzi\, Alice Rohrwacher. Documentary +13. Italy\, 2021\, 105′. \nAt the beginning of 2020\, three directors embarked on a grand tour of Italy\, asking young men and women from all over the country what their idea of the future was. Alice Rohrwacher\, Francesco Munzi and Pietro Marcello travelled across the country\, stopping both in the big cities – Milan\, Genoa\, Rome\, Naples and Palermo – and in the countryside and small towns\, meeting young people from schools and universities\, professional courses\, sports clubs\, choirs\, street demonstrations and workplaces. The testimonies collected form a picture of a country that does not listen or pay enough attention to young people\, and devotes very few economic and organisational resources to them.
URL:https://z-power.eu/en/event/futura-2/
LOCATION:Cinema Nuovo\, Viale dei Mille 39\, Varese\, 21100\, Italia
CATEGORIES:CINEMA NUOVO
ATTACH;FMTTYPE=image/png:https://z-power.eu/wp-content/uploads/2022/03/FUTURA-2021.png
ORGANIZER;CN="Cinema%20Nuovo":MAILTO:segreteria@filmstudio90.it
END:VEVENT
BEGIN:VEVENT
DTSTART;TZID=Europe/Rome:20220408T210000
DTEND;TZID=Europe/Rome:20220408T230000
DTSTAMP:20260420T084245
CREATED:20220406T023447Z
LAST-MODIFIED:20220406T023629Z
UID:1605-1649451600-1649458800@z-power.eu
SUMMARY:Dating Amber
DESCRIPTION:By David Freyne. Ireland\, 2020\, 92′.\n\n\nThe film is set in 1995 in Ireland\, where two teenagers\, the outsiders Eddie and Amber\, decide to hide their sexuality from the rural Irish town where they live\, pretending to be a heterosexual couple. Amber wants to escape a life overshadowed by her father’s suicide to lead a lesbian punk lifestyle in a more liberal environment. She is saving money to move to London by secretly renting out caravans to teenage couples who need some privacy in a trailer park run by her mother. Eddie is not sure about his sexuality and intends to follow his insensitive and often absent father into the Irish army. \n\nOriginal version with Italian subtitles
URL:https://z-power.eu/en/event/dating-amber-2/
LOCATION:Cinema Nuovo\, Viale dei Mille 39\, Varese\, 21100\, Italia
CATEGORIES:CINEMA NUOVO
ATTACH;FMTTYPE=image/png:https://z-power.eu/wp-content/uploads/2022/03/DATING-AMBER-2020.png
ORGANIZER;CN="Cinema%20Nuovo":MAILTO:segreteria@filmstudio90.it
END:VEVENT
END:VCALENDAR