BEGIN:VCALENDAR
VERSION:2.0
PRODID:-//Z-Power - ECPv5.12.4//NONSGML v1.0//EN
CALSCALE:GREGORIAN
METHOD:PUBLISH
X-WR-CALNAME:Z-Power
X-ORIGINAL-URL:https://z-power.eu/en/
X-WR-CALDESC:Events for Z-Power
REFRESH-INTERVAL;VALUE=DURATION:PT1H
X-Robots-Tag:noindex
X-PUBLISHED-TTL:PT1H
BEGIN:VTIMEZONE
TZID:Europe/Rome
BEGIN:DAYLIGHT
TZOFFSETFROM:+0100
TZOFFSETTO:+0200
TZNAME:CEST
DTSTART:20220327T010000
END:DAYLIGHT
BEGIN:STANDARD
TZOFFSETFROM:+0200
TZOFFSETTO:+0100
TZNAME:CET
DTSTART:20221030T010000
END:STANDARD
END:VTIMEZONE
BEGIN:VEVENT
DTSTART;TZID=Europe/Rome:20220405T203000
DTEND;TZID=Europe/Rome:20220405T223000
DTSTAMP:20260420T051120
CREATED:20220406T025055Z
LAST-MODIFIED:20220406T025057Z
UID:1619-1649190600-1649197800@z-power.eu
SUMMARY:The Earth is Blue as an Orange
DESCRIPTION:By Iryna Tsilyk. Ukraine\, Lithuania\, 2020\, 74′.\n\n\nHanna\, a single mother\, and her four children live on the front line of the Donbass war zone in Ukraine. While the outside world is made up of bombings and chaos\, the family manages to keep their home as a safe haven\, full of life and full of light. Each member of the family has a passion for cinema\, motivating them to make a film inspired by their wartime lives. The creative process raises the question of what power the magical world of cinema might have in times of disaster. How to imagine war through fiction? For Hanna and the children\, turning trauma into a work of art is the best way to remain human. \nOriginal version with Italian subtitles
URL:https://z-power.eu/en/event/the-earth-is-blue-as-an-orange-5/
LOCATION:Cinema Rondinella\, Via Giacomo Matteotti 425\, Sesto San Giovanni (MI)\, 20099\, Italia
CATEGORIES:CINEMA RONDINELLA
ATTACH;FMTTYPE=image/png:https://z-power.eu/wp-content/uploads/2022/03/THE-EARTH-IS-BLUE-AS-AN-ORANGE-2020.png
ORGANIZER;CN="Cinema%20Rondinella":MAILTO:info@cinemarondinella.it
END:VEVENT
END:VCALENDAR