BEGIN:VCALENDAR
VERSION:2.0
PRODID:-//Z-Power - ECPv5.12.4//NONSGML v1.0//EN
CALSCALE:GREGORIAN
METHOD:PUBLISH
X-WR-CALNAME:Z-Power
X-ORIGINAL-URL:https://z-power.eu/en/
X-WR-CALDESC:Events for Z-Power
REFRESH-INTERVAL;VALUE=DURATION:PT1H
X-Robots-Tag:noindex
X-PUBLISHED-TTL:PT1H
BEGIN:VTIMEZONE
TZID:Europe/Rome
BEGIN:DAYLIGHT
TZOFFSETFROM:+0100
TZOFFSETTO:+0200
TZNAME:CEST
DTSTART:20220327T010000
END:DAYLIGHT
BEGIN:STANDARD
TZOFFSETFROM:+0200
TZOFFSETTO:+0100
TZNAME:CET
DTSTART:20221030T010000
END:STANDARD
END:VTIMEZONE
BEGIN:VEVENT
DTSTART;TZID=Europe/Rome:20220412T203000
DTEND;TZID=Europe/Rome:20220412T223000
DTSTAMP:20260420T051119
CREATED:20220406T030628Z
LAST-MODIFIED:20220406T030828Z
UID:1632-1649795400-1649802600@z-power.eu
SUMMARY:Easy Living
DESCRIPTION:By Orso Miyakawa\, Peter Miyakawa. Comedy. Italy\, 2019\, 93′. \nVentimiglia. It is here that we meet Don\, an American tennis instructor who seduces ladies over 50 and has a passion for painting; Camilla\, a drug and alcohol smuggler; and Brando\, her 14-year-old brother. The three will end up joining forces to help Elvis\, an illegal migrant\, cross into France to reunite with his pregnant wife.
URL:https://z-power.eu/en/event/easy-living/
LOCATION:Cinema Rondinella\, Via Giacomo Matteotti 425\, Sesto San Giovanni (MI)\, 20099\, Italia
CATEGORIES:CINEMA RONDINELLA
ATTACH;FMTTYPE=image/png:https://z-power.eu/wp-content/uploads/2022/04/EASY-LIVING.png
ORGANIZER;CN="Cinema%20Rondinella":MAILTO:info@cinemarondinella.it
END:VEVENT
END:VCALENDAR