BEGIN:VCALENDAR
VERSION:2.0
PRODID:-//Z-Power - ECPv5.12.4//NONSGML v1.0//EN
CALSCALE:GREGORIAN
METHOD:PUBLISH
X-WR-CALNAME:Z-Power
X-ORIGINAL-URL:https://z-power.eu/en/
X-WR-CALDESC:Events for Z-Power
REFRESH-INTERVAL;VALUE=DURATION:PT1H
X-Robots-Tag:noindex
X-PUBLISHED-TTL:PT1H
BEGIN:VTIMEZONE
TZID:Europe/Rome
BEGIN:DAYLIGHT
TZOFFSETFROM:+0100
TZOFFSETTO:+0200
TZNAME:CEST
DTSTART:20220327T010000
END:DAYLIGHT
BEGIN:STANDARD
TZOFFSETFROM:+0200
TZOFFSETTO:+0100
TZNAME:CET
DTSTART:20221030T010000
END:STANDARD
END:VTIMEZONE
BEGIN:VEVENT
DTSTART;TZID=Europe/Rome:20220404T170000
DTEND;TZID=Europe/Rome:20220404T190000
DTSTAMP:20260420T083207
CREATED:20220406T013133Z
LAST-MODIFIED:20220406T022235Z
UID:1565-1649091600-1649098800@z-power.eu
SUMMARY:Futura
DESCRIPTION:By Pietro Marcello\, Francesco Munzi\, Alice Rohrwacher. Documentary +13. Italy\, 2021\, 105′. \nAt the beginning of 2020\, three directors embarked on a grand tour of Italy\, asking young men and women from all over the country what their idea of the future was. Alice Rohrwacher\, Francesco Munzi and Pietro Marcello travelled across the country\, stopping both in the big cities – Milan\, Genoa\, Rome\, Naples and Palermo – and in the countryside and small towns\, meeting young people from schools and universities\, professional courses\, sports clubs\, choirs\, street demonstrations and workplaces. The testimonies collected form a picture of a country that does not listen or pay enough attention to young people\, and devotes very few economic and organisational resources to them.
URL:https://z-power.eu/en/event/futura/
LOCATION:Il Cinemino/Associazione Seiseneca\, Via Seneca 6\, Milano\, 20135\, Italia
CATEGORIES:IL CINEMINO
ATTACH;FMTTYPE=image/png:https://z-power.eu/wp-content/uploads/2022/03/FUTURA-2021.png
ORGANIZER;CN="Il%20Cinemino%2FAssociazione%20Seiseneca":MAILTO:comunicazione@ilcinemino.it
END:VEVENT
END:VCALENDAR