BEGIN:VCALENDAR
VERSION:2.0
PRODID:-//Z-Power - ECPv5.12.4//NONSGML v1.0//EN
CALSCALE:GREGORIAN
METHOD:PUBLISH
X-WR-CALNAME:Z-Power
X-ORIGINAL-URL:https://z-power.eu/en/
X-WR-CALDESC:Events for Z-Power
REFRESH-INTERVAL;VALUE=DURATION:PT1H
X-Robots-Tag:noindex
X-PUBLISHED-TTL:PT1H
BEGIN:VTIMEZONE
TZID:Europe/Rome
BEGIN:DAYLIGHT
TZOFFSETFROM:+0100
TZOFFSETTO:+0200
TZNAME:CEST
DTSTART:20220327T010000
END:DAYLIGHT
BEGIN:STANDARD
TZOFFSETFROM:+0200
TZOFFSETTO:+0100
TZNAME:CET
DTSTART:20221030T010000
END:STANDARD
END:VTIMEZONE
BEGIN:VEVENT
DTSTART;TZID=Europe/Rome:20220411T170000
DTEND;TZID=Europe/Rome:20220411T190000
DTSTAMP:20260420T083332
CREATED:20220406T021004Z
LAST-MODIFIED:20220406T021004Z
UID:1586-1649696400-1649703600@z-power.eu
SUMMARY:The Prince's Voyage
DESCRIPTION:By Jean-François Laguionie\, Xavier Picard. Animation. France\, Luxemburg\, 2019\, 77′.\n\n\nIn a world where apes talk and live like humans\, an old primate is found on a beach: he is wounded\, lost\, and most importantly\, he comes from another world and is the fallen prince of an unknown nation. Considered to be a valuable subject for research\, the old prince is taken into custody and hidden by little Tom and his parents\, two researchers who have always been convinced of the existence of other forms of intelligent life and are therefore excluded from the rigid academy of science. As the days go by\, the ”prisoner” and the child develop a deep relationship\, which leads them both to escape from the studio and venture into the big city.
URL:https://z-power.eu/en/event/the-princes-voyage-2/
LOCATION:Il Cinemino/Associazione Seiseneca\, Via Seneca 6\, Milano\, 20135\, Italia
CATEGORIES:IL CINEMINO
ATTACH;FMTTYPE=image/png:https://z-power.eu/wp-content/uploads/2021/12/IL-VIAGGIO-DEL-PRINCIPE-2019.png
ORGANIZER;CN="Il%20Cinemino%2FAssociazione%20Seiseneca":MAILTO:comunicazione@ilcinemino.it
END:VEVENT
END:VCALENDAR