BEGIN:VCALENDAR
VERSION:2.0
PRODID:-//Z-Power - ECPv5.12.4//NONSGML v1.0//EN
CALSCALE:GREGORIAN
METHOD:PUBLISH
X-WR-CALNAME:Z-Power
X-ORIGINAL-URL:https://z-power.eu/en/
X-WR-CALDESC:Events for Z-Power
REFRESH-INTERVAL;VALUE=DURATION:PT1H
X-Robots-Tag:noindex
X-PUBLISHED-TTL:PT1H
BEGIN:VTIMEZONE
TZID:Europe/Rome
BEGIN:DAYLIGHT
TZOFFSETFROM:+0100
TZOFFSETTO:+0200
TZNAME:CEST
DTSTART:20220327T010000
END:DAYLIGHT
BEGIN:STANDARD
TZOFFSETFROM:+0200
TZOFFSETTO:+0100
TZNAME:CET
DTSTART:20221030T010000
END:STANDARD
END:VTIMEZONE
BEGIN:VEVENT
DTSTART;TZID=Europe/Rome:20220324T203000
DTEND;TZID=Europe/Rome:20220324T223000
DTSTAMP:20260422T030420
CREATED:20220319T132525Z
LAST-MODIFIED:20220319T132525Z
UID:1397-1648153800-1648161000@z-power.eu
SUMMARY:The Earth is Blue as an Orange
DESCRIPTION:By Iryna Tsilyk. Ukraine\, Lithuania\, 2020\, 74′.\n \n\nHanna\, a single mother\, and her four children live on the front line of the Donbass war zone in Ukraine. While the outside world is made up of bombings and chaos\, the family manages to keep their home as a safe haven\, full of life and full of light. Each member of the family has a passion for cinema\, motivating them to make a film inspired by their wartime lives. The creative process raises the question of what power the magical world of cinema might have in times of disaster. How to imagine war through fiction? For Hanna and the children\, turning trauma into a work of art is the best way to remain human. \nOriginal version with Italian subtitles\nScreening organised in collaboration with Embassy of the Republic of Lithuania in Italy\, Embassy of the Republic of Ukraine in Italy\, Institute of Lithuanian Culture and Z-Power-Young People Back to the Movies. Admission € 5\,00. Proceeds will be donated to charity for the Ukraine cause.
URL:https://z-power.eu/en/event/the-earth-is-blue-as-an-orange-2/
LOCATION:Multisala Ariston\, Via Principe Amedeo 20\, Mantova\, 46100\, Italia
CATEGORIES:MULTISALA ARISTON
ATTACH;FMTTYPE=image/png:https://z-power.eu/wp-content/uploads/2022/03/THE-EARTH-IS-BLUE-AS-AN-ORANGE-2020.png
ORGANIZER;CN="Multisala%20Ariston":MAILTO:silviaprotti@cinecitymantova.it
END:VEVENT
END:VCALENDAR