BEGIN:VCALENDAR
VERSION:2.0
PRODID:-//Z-Power - ECPv5.12.4//NONSGML v1.0//EN
CALSCALE:GREGORIAN
METHOD:PUBLISH
X-WR-CALNAME:Z-Power
X-ORIGINAL-URL:https://z-power.eu/en/
X-WR-CALDESC:Events for Z-Power
REFRESH-INTERVAL;VALUE=DURATION:PT1H
X-Robots-Tag:noindex
X-PUBLISHED-TTL:PT1H
BEGIN:VTIMEZONE
TZID:Europe/Rome
BEGIN:DAYLIGHT
TZOFFSETFROM:+0100
TZOFFSETTO:+0200
TZNAME:CEST
DTSTART:20220327T010000
END:DAYLIGHT
BEGIN:STANDARD
TZOFFSETFROM:+0200
TZOFFSETTO:+0100
TZNAME:CET
DTSTART:20221030T010000
END:STANDARD
END:VTIMEZONE
BEGIN:VEVENT
DTSTART;TZID=Europe/Rome:20220407T203000
DTEND;TZID=Europe/Rome:20220407T223000
DTSTAMP:20260422T030843
CREATED:20220319T123625Z
LAST-MODIFIED:20220319T125056Z
UID:1373-1649363400-1649370600@z-power.eu
SUMMARY:Dating Amber
DESCRIPTION:By David Freyne. Ireland\, 2020\, 92′.\n \n\nThe film is set in 1995 in Ireland\, where two teenagers\, the outsiders Eddie and Amber\, decide to hide their sexuality from the rural Irish town where they live\, pretending to be a heterosexual couple. Amber wants to escape a life overshadowed by her father’s suicide to lead a lesbian punk lifestyle in a more liberal environment. She is saving money to move to London by secretly renting out caravans to teenage couples who need some privacy in a trailer park run by her mother. Eddie is not sure about his sexuality and intends to follow his insensitive and often absent father into the Irish army. \n \n          Original version with Italian subtitles
URL:https://z-power.eu/en/event/dating-amber/
LOCATION:Multisala Ariston\, Via Principe Amedeo 20\, Mantova\, 46100\, Italia
CATEGORIES:MULTISALA ARISTON
ATTACH;FMTTYPE=image/png:https://z-power.eu/wp-content/uploads/2022/03/DATING-AMBER-2020.png
ORGANIZER;CN="Multisala%20Ariston":MAILTO:silviaprotti@cinecitymantova.it
END:VEVENT
END:VCALENDAR