BEGIN:VCALENDAR
VERSION:2.0
PRODID:-//Z-Power - ECPv5.12.4//NONSGML v1.0//EN
CALSCALE:GREGORIAN
METHOD:PUBLISH
X-WR-CALNAME:Z-Power
X-ORIGINAL-URL:https://z-power.eu/en/
X-WR-CALDESC:Events for Z-Power
REFRESH-INTERVAL;VALUE=DURATION:PT1H
X-Robots-Tag:noindex
X-PUBLISHED-TTL:PT1H
BEGIN:VTIMEZONE
TZID:Europe/Rome
BEGIN:DAYLIGHT
TZOFFSETFROM:+0100
TZOFFSETTO:+0200
TZNAME:CEST
DTSTART:20220327T010000
END:DAYLIGHT
BEGIN:STANDARD
TZOFFSETFROM:+0200
TZOFFSETTO:+0100
TZNAME:CET
DTSTART:20221030T010000
END:STANDARD
END:VTIMEZONE
BEGIN:VEVENT
DTSTART;TZID=Europe/Rome:20220317T213000
DTEND;TZID=Europe/Rome:20220317T233000
DTSTAMP:20260422T032417
CREATED:20220406T010105Z
LAST-MODIFIED:20220406T010105Z
UID:1554-1647552600-1647559800@z-power.eu
SUMMARY:The Earth is Blue as an Orange
DESCRIPTION:By Iryna Tsilyk. Ukraine\, Lithuania\, 2020\, 74′.\n\n\nHanna\, a single mother\, and her four children live on the front line of the Donbass war zone in Ukraine. While the outside world is made up of bombings and chaos\, the family manages to keep their home as a safe haven\, full of life and full of light. Each member of the family has a passion for cinema\, motivating them to make a film inspired by their wartime lives. The creative process raises the question of what power the magical world of cinema might have in times of disaster. How to imagine war through fiction? For Hanna and the children\, turning trauma into a work of art is the best way to remain human. \nOriginal version with Italian subtitles
URL:https://z-power.eu/en/event/the-earth-is-blue-as-an-orange-3/
LOCATION:Il Cinemino/Associazione Seiseneca\, Via Seneca 6\, Milano\, 20135\, Italia
CATEGORIES:IL CINEMINO
ATTACH;FMTTYPE=image/png:https://z-power.eu/wp-content/uploads/2022/03/THE-EARTH-IS-BLUE-AS-AN-ORANGE-2020.png
ORGANIZER;CN="Il%20Cinemino%2FAssociazione%20Seiseneca":MAILTO:comunicazione@ilcinemino.it
END:VEVENT
BEGIN:VEVENT
DTSTART;TZID=Europe/Rome:20220316T210000
DTEND;TZID=Europe/Rome:20220316T230000
DTSTAMP:20260422T032417
CREATED:20220319T120135Z
LAST-MODIFIED:20220321T141546Z
UID:1363-1647464400-1647471600@z-power.eu
SUMMARY:The Earth is Blue as an Orange
DESCRIPTION:By Iryna Tsilyk. Ukraine\, Lithuania\, 2020\, 74′.\n \n\nHanna\, a single mother\, and her four children live on the front line of the Donbass war zone in Ukraine. While the outside world is made up of bombings and chaos\, the family manages to keep their home as a safe haven\, full of life and full of light. Each member of the family has a passion for cinema\, motivating them to make a film inspired by their wartime lives. The creative process raises the question of what power the magical world of cinema might have in times of disaster. How to imagine war through fiction? For Hanna and the children\, turning trauma into a work of art is the best way to remain human. \nOriginal version with Italian subtitles\nScreening organised in collaboration with Embassy of the Republic of Lithuania in Italy\, Embassy of the Republic of Ukraine in Italy\, Institute of Lithuanian Culture and Z-Power-Young People Back to the Movies. Admission € 5\,00. Proceeds will be donated to charity for the Ukraine cause.
URL:https://z-power.eu/en/event/the-earth-is-blue-as-an-orange/
LOCATION:Cineteca Milano Metropolis\, Via Oslavia 8\, Paderno Dugnano (MI)\, 20037\, Italia
CATEGORIES:AREA METROPOLIS 2.0
ATTACH;FMTTYPE=image/png:https://z-power.eu/wp-content/uploads/2022/03/THE-EARTH-IS-BLUE-AS-AN-ORANGE-2020.png
ORGANIZER;CN="Cineteca%20Milano":MAILTO:silvia.pareti@cinetecamilano.it
END:VEVENT
BEGIN:VEVENT
DTSTART;TZID=Europe/Rome:20220305T210000
DTEND;TZID=Europe/Rome:20220305T230000
DTSTAMP:20260422T032417
CREATED:20220414T084332Z
LAST-MODIFIED:20220414T084332Z
UID:1818-1646514000-1646521200@z-power.eu
SUMMARY:Khorshid
DESCRIPTION:By Majid Majidi. Iran\, 2020\, 120’. \nIn the criminal underworld of Tehran\, the most necessary labour comes from the exploitation of minors\, with children called upon to carry out mechanical work and assorted petty thefts to support themselves or to help families in difficulty. Among them are a group of four friends: Ali\, Mamad\, Reda and Abofazl\, the latter being the brother of Zahra\, who also works as a mugger in the underground. The opportunity for a more important assignment for the four comes with the promise of a treasure hidden underground and accessible only from within the walls of the School of the Sun\, a local institution. The boys must thus pretend to be interested in resuming their studies and secretly dig a tunnel to find the treasure.
URL:https://z-power.eu/en/event/khorshid-2/
LOCATION:Cinema Astoria Lerici\, Via Nino Gerini 40\, Lerici (SP)\, 19032\, Italia
CATEGORIES:CINEMA ASTORIA LERICI
ATTACH;FMTTYPE=image/png:https://z-power.eu/wp-content/uploads/2022/04/I-FIGLI-DEL-SOLE.png
ORGANIZER;CN="Cinema%20Astoria%20Lerici":MAILTO:ilnuovocinemasp@gmail.com
END:VEVENT
END:VCALENDAR