BEGIN:VCALENDAR
VERSION:2.0
PRODID:-//Z-Power - ECPv5.12.4//NONSGML v1.0//EN
CALSCALE:GREGORIAN
METHOD:PUBLISH
X-WR-CALNAME:Z-Power
X-ORIGINAL-URL:https://z-power.eu/en/
X-WR-CALDESC:Events for Z-Power
REFRESH-INTERVAL;VALUE=DURATION:PT1H
X-Robots-Tag:noindex
X-PUBLISHED-TTL:PT1H
BEGIN:VTIMEZONE
TZID:Europe/Rome
BEGIN:DAYLIGHT
TZOFFSETFROM:+0100
TZOFFSETTO:+0200
TZNAME:CEST
DTSTART:20220327T010000
END:DAYLIGHT
BEGIN:STANDARD
TZOFFSETFROM:+0200
TZOFFSETTO:+0100
TZNAME:CET
DTSTART:20221030T010000
END:STANDARD
END:VTIMEZONE
BEGIN:VEVENT
DTSTART;TZID=Europe/Rome:20220414T210000
DTEND;TZID=Europe/Rome:20220414T230000
DTSTAMP:20260421T234242
CREATED:20220414T091849Z
LAST-MODIFIED:20220414T091909Z
UID:1849-1649970000-1649977200@z-power.eu
SUMMARY:Bad Poems
DESCRIPTION:By Gábor Reisz. Hungary\, 2018\, 97’ \nThirty-three-year-old Tamás\, known as Tami\, is left by his fiancée Anna\, a scholarship student in Paris\, abruptly interrupting what appears to have been a happy relationship. Unprepared to react to the shock\, Tamás returns to his family in his native Budapest to recuperate. \nOriginal version with Italian subtitles.
URL:https://z-power.eu/en/event/bad-poems-6/
LOCATION:Il Nuovo La Spezia Monosala\, Via Cristoforo Colombo 99\, La Spezia\, 19121\, Italia
CATEGORIES:IL NUOVO LA SPEZIA MONOSALA
ATTACH;FMTTYPE=image/png:https://z-power.eu/wp-content/uploads/2022/04/BAD-POEMS-2018.png
ORGANIZER;CN="Il%20Nuovo%20La%20Spezia%20Monosala":MAILTO:ilnuovocinemasp@gmail.com
END:VEVENT
END:VCALENDAR